BEGIN:VCALENDAR
VERSION:2.0
PRODID:-//Ramsperger Messerschmiede - ECPv6.15.20//NONSGML v1.0//EN
CALSCALE:GREGORIAN
METHOD:PUBLISH
X-WR-CALNAME:Ramsperger Messerschmiede
X-ORIGINAL-URL:https://ramsperger-freiburg.de
X-WR-CALDESC:Veranstaltungen für Ramsperger Messerschmiede
REFRESH-INTERVAL;VALUE=DURATION:PT1H
X-Robots-Tag:noindex
X-PUBLISHED-TTL:PT1H
BEGIN:VTIMEZONE
TZID:UTC
BEGIN:STANDARD
TZOFFSETFROM:+0000
TZOFFSETTO:+0000
TZNAME:UTC
DTSTART:20180101T000000
END:STANDARD
END:VTIMEZONE
BEGIN:VEVENT
DTSTART;TZID=UTC:20190308T100000
DTEND;TZID=UTC:20190308T180000
DTSTAMP:20260423T181812
CREATED:20190207T161551Z
LAST-MODIFIED:20190207T162443Z
UID:870-1552039200-1552068000@ramsperger-freiburg.de
SUMMARY:Neueröffnung
DESCRIPTION:Wir haben für Sie ein vollständig neues Einkaufserlebnis geschaffen. Kommen Sie vorbei und lassen Sie sich überraschen. Wir freuen uns\, Sie als einer der ersten Kunden begrüßen zu dürfen.
URL:https://ramsperger-freiburg.de/event/neueroeffnung/
LOCATION:Ramsperger Messerschmiede\, Rathausgasse 44\, Freiburg\, 79098\, Deutschland
CATEGORIES:Event
ORGANIZER;CN="Ramsperger GmbH":MAILTO:seminare@ramsperger-freiburg.de
END:VEVENT
END:VCALENDAR