BEGIN:VCALENDAR
VERSION:2.0
PRODID:-//Ramsperger Messerschmiede - ECPv6.15.20//NONSGML v1.0//EN
CALSCALE:GREGORIAN
METHOD:PUBLISH
X-ORIGINAL-URL:https://ramsperger-freiburg.de
X-WR-CALDESC:Veranstaltungen für Ramsperger Messerschmiede
REFRESH-INTERVAL;VALUE=DURATION:PT1H
X-Robots-Tag:noindex
X-PUBLISHED-TTL:PT1H
BEGIN:VTIMEZONE
TZID:UTC
BEGIN:STANDARD
TZOFFSETFROM:+0000
TZOFFSETTO:+0000
TZNAME:UTC
DTSTART:20180101T000000
END:STANDARD
END:VTIMEZONE
BEGIN:VEVENT
DTSTART;TZID=UTC:20190315T093000
DTEND;TZID=UTC:20190315T190000
DTSTAMP:20260423T182110
CREATED:20190207T161551Z
LAST-MODIFIED:20190217T194236Z
UID:871-1552642200-1552676400@ramsperger-freiburg.de
SUMMARY:Kochen mit Keramik-Antihaft-Pfannen und cleveren Küchenhelfern
DESCRIPTION:Sie haben bereits eine antihaftbeschichtete Pfanne oder möchten auch in den Genuss der besonderen Keramikbeschichtung von BALLARINI kommen? Dann schauen Sie doch am 15. und 16.03. bei uns vorbei. Extra für Sie haben wir eine Spitzenköchin eingeladen\, die alle Tipps und Tricks der BALLARINI Pfannen kennt und clevere Zubereitungslösungen von GEFU Küchenhelfern mitbringt.
URL:https://ramsperger-freiburg.de/event/kochen-mit-keramik-antihaft-pfannen-und-cleveren-kuechenhelfern/
LOCATION:Ramsperger Messerschmiede\, Rathausgasse 44\, Freiburg\, 79098\, Deutschland
CATEGORIES:Kochen
ATTACH;FMTTYPE=image/jpeg:https://ramsperger-freiburg.de/wp-content/uploads/2019/02/kochen_BALLARINI.jpg
ORGANIZER;CN="Ramsperger GmbH":MAILTO:seminare@ramsperger-freiburg.de
END:VEVENT
END:VCALENDAR