BEGIN:VCALENDAR
VERSION:2.0
PRODID:-//Ramsperger Messerschmiede - ECPv6.15.20//NONSGML v1.0//EN
CALSCALE:GREGORIAN
METHOD:PUBLISH
X-ORIGINAL-URL:https://ramsperger-freiburg.de
X-WR-CALDESC:Veranstaltungen für Ramsperger Messerschmiede
REFRESH-INTERVAL;VALUE=DURATION:PT1H
X-Robots-Tag:noindex
X-PUBLISHED-TTL:PT1H
BEGIN:VTIMEZONE
TZID:UTC
BEGIN:STANDARD
TZOFFSETFROM:+0000
TZOFFSETTO:+0000
TZNAME:UTC
DTSTART:20180101T000000
END:STANDARD
END:VTIMEZONE
BEGIN:VEVENT
DTSTART;TZID=UTC:20190406T100000
DTEND;TZID=UTC:20190406T180000
DTSTAMP:20260423T163236
CREATED:20190207T162446Z
LAST-MODIFIED:20190217T172815Z
UID:882-1554544800-1554573600@ramsperger-freiburg.de
SUMMARY:Schonendes Kochen in Gusseisen
DESCRIPTION:Wir kennen gusseiserne Bräter bereits von unserer Oma oder unserem Opa aus der Kindheit. Bräter von STAUB oder LE CREUSET werden gerne über Generationen hinweg weitervererbt. Was das Besondere dabei ist und warum dieses Material bis heute unvergleichbar beim Kochen ist zeigt uns unser heutiger Koch von STAUB. Überzeugen Sie sich selbst. Auch heute haben wir etwas für den kleinen Hunger parat. Attraktive Angebote von STAUB haben wir ebenfalls für Sie organisiert.
URL:https://ramsperger-freiburg.de/event/schonendes-kochen-in-gusseisen/
LOCATION:Ramsperger Messerschmiede\, Rathausgasse 44\, Freiburg\, 79098\, Deutschland
CATEGORIES:Kochen
ATTACH;FMTTYPE=image/jpeg:https://ramsperger-freiburg.de/wp-content/uploads/2019/02/kochen_STAUB.jpg
ORGANIZER;CN="Ramsperger GmbH":MAILTO:seminare@ramsperger-freiburg.de
END:VEVENT
END:VCALENDAR