BEGIN:VCALENDAR
VERSION:2.0
PRODID:-//Ramsperger Messerschmiede - ECPv6.15.20//NONSGML v1.0//EN
CALSCALE:GREGORIAN
METHOD:PUBLISH
X-WR-CALNAME:Ramsperger Messerschmiede
X-ORIGINAL-URL:https://ramsperger-freiburg.de
X-WR-CALDESC:Veranstaltungen für Ramsperger Messerschmiede
REFRESH-INTERVAL;VALUE=DURATION:PT1H
X-Robots-Tag:noindex
X-PUBLISHED-TTL:PT1H
BEGIN:VTIMEZONE
TZID:UTC
BEGIN:STANDARD
TZOFFSETFROM:+0000
TZOFFSETTO:+0000
TZNAME:UTC
DTSTART:20180101T000000
END:STANDARD
END:VTIMEZONE
BEGIN:VEVENT
DTSTART;TZID=UTC:20190504T100000
DTEND;TZID=UTC:20190504T220000
DTSTAMP:20260423T133054
CREATED:20190207T162446Z
LAST-MODIFIED:20190218T164159Z
UID:883-1556964000-1557007200@ramsperger-freiburg.de
SUMMARY:Megasamstag
DESCRIPTION:Entspannt Shoppen bis 22:00 Uhr. Lassen Sie sich Zeit. Auch wir haben für Sie verlängert geöffnet.
URL:https://ramsperger-freiburg.de/event/megasamstag/
LOCATION:Ramsperger Messerschmiede\, Rathausgasse 44\, Freiburg\, 79098\, Deutschland
CATEGORIES:Event
ATTACH;FMTTYPE=image/jpeg:https://ramsperger-freiburg.de/wp-content/uploads/2019/02/megasamstag.jpg
ORGANIZER;CN="Ramsperger GmbH":MAILTO:seminare@ramsperger-freiburg.de
END:VEVENT
BEGIN:VEVENT
DTSTART;TZID=UTC:20190504T150000
DTEND;TZID=UTC:20190504T190000
DTSTAMP:20260423T133054
CREATED:20190207T162448Z
LAST-MODIFIED:20190217T200540Z
UID:890-1556982000-1556996400@ramsperger-freiburg.de
SUMMARY:Barista Vorführung mit der Freiburger Rösterei SCHWARZWILD
DESCRIPTION:Barista Vorführung mit Rösterei Schwarzwild | Woher stammen die Bohnen? Welche Variationen gibt es und sorgen für welche Note? Welche Kombinationen eignen sich für eine Siebträgermaschine\, einen Vollautomaten\, einen BIALETTI-Espressokocher\, eine French-Press oder den klassischen Filterkaffee? Wir zeigen Ihnen den Unterschied.
URL:https://ramsperger-freiburg.de/event/barista-vorfuehrung/
LOCATION:Ramsperger Messerschmiede\, Rathausgasse 44\, Freiburg\, 79098\, Deutschland
CATEGORIES:Event
ATTACH;FMTTYPE=image/jpeg:https://ramsperger-freiburg.de/wp-content/uploads/2019/02/barista_SCHWARZWILD.jpg
ORGANIZER;CN="Ramsperger GmbH":MAILTO:seminare@ramsperger-freiburg.de
END:VEVENT
BEGIN:VEVENT
DTSTART;TZID=UTC:20190511T140000
DTEND;TZID=UTC:20190511T180000
DTSTAMP:20260423T133054
CREATED:20190207T162446Z
LAST-MODIFIED:20190217T165053Z
UID:884-1557583200-1557597600@ramsperger-freiburg.de
SUMMARY:Weinprobe: offener Ausschank | Weingut HEGER
DESCRIPTION:Kommen Sie auf ein Glas Wein vorbei. Das Weingut HEGER bietet Ihnen bei uns eine feine Auswahl bester Weine aus unserer Region zum Ausprobieren.
URL:https://ramsperger-freiburg.de/event/weinprobe-offener-ausschank/
LOCATION:Ramsperger Messerschmiede\, Rathausgasse 44\, Freiburg\, 79098\, Deutschland
CATEGORIES:Event,Weinprobe
ATTACH;FMTTYPE=image/jpeg:https://ramsperger-freiburg.de/wp-content/uploads/2019/02/weinprobe_HEGER-2.jpg
ORGANIZER;CN="Ramsperger GmbH":MAILTO:seminare@ramsperger-freiburg.de
END:VEVENT
BEGIN:VEVENT
DTSTART;TZID=UTC:20190516T093000
DTEND;TZID=UTC:20190516T190000
DTSTAMP:20260423T133054
CREATED:20190208T182233Z
LAST-MODIFIED:20190514T082546Z
UID:900-1557999000-1558033200@ramsperger-freiburg.de
SUMMARY:Kochen in Gusseisen mit KÜCHENPROFI
DESCRIPTION:Das umfassende Sortiment von KÜCHENPROFI bietet alles für die perfekte Zubereitung. Heute im Fokus: Kochen in Gusseisen. Neben Pfannen und Bräter aus Gusseisen verwendet unsere Köchin vielerlei nützliche Küchenhelfer von KÜCHENPROFI. Neugierde und einen kleinen Hunger unbedingt mitbringen. Wir freuen uns auf Sie.
URL:https://ramsperger-freiburg.de/event/kochen-in-gusseisen-mit-den-profis-von-kuechenprofi/
LOCATION:Ramsperger Messerschmiede\, Rathausgasse 44\, Freiburg\, 79098\, Deutschland
CATEGORIES:Kochen
ATTACH;FMTTYPE=image/jpeg:https://ramsperger-freiburg.de/wp-content/uploads/2019/02/kochen-gusseisen_KÜCHENPROFI.jpg
ORGANIZER;CN="Ramsperger GmbH":MAILTO:seminare@ramsperger-freiburg.de
END:VEVENT
BEGIN:VEVENT
DTSTART;TZID=UTC:20190517T093000
DTEND;TZID=UTC:20190517T190000
DTSTAMP:20260423T133054
CREATED:20190208T184911Z
LAST-MODIFIED:20190223T192403Z
UID:921-1558085400-1558119600@ramsperger-freiburg.de
SUMMARY:Veggie | Gesund und aktiv Kochen mit KÜCHENPROFI
DESCRIPTION:Im Fokus dieser Veranstaltung steht das Thema Veggie. Das Solinger Unternehmen KÜCHENPROFI bietet hilfreiche Küchentools für die exzellente Zubereitung. Wie das geht\, zeigt Ihnen unsere Köchin. Es darf während der Veranstaltung selbstverständlich auch genascht werden. Neben der Kochvorführung erwarten Sie attraktive Angebote aus dem Sortiment von KÜCHENPROFI.
URL:https://ramsperger-freiburg.de/event/veggie-gesund-und-aktiv-kochen-mit-kuechenprofi/
LOCATION:Ramsperger Messerschmiede\, Rathausgasse 44\, Freiburg\, 79098\, Deutschland
CATEGORIES:Kochen
ATTACH;FMTTYPE=image/jpeg:https://ramsperger-freiburg.de/wp-content/uploads/2019/02/kochen-veggie_KÜCHENPROFI.jpg
ORGANIZER;CN="Ramsperger GmbH":MAILTO:seminare@ramsperger-freiburg.de
END:VEVENT
BEGIN:VEVENT
DTSTART;TZID=UTC:20190518T100000
DTEND;TZID=UTC:20190518T180000
DTSTAMP:20260423T133054
CREATED:20190208T183117Z
LAST-MODIFIED:20190514T082625Z
UID:903-1558173600-1558202400@ramsperger-freiburg.de
SUMMARY:Spring - Schweizer Gastronomie-Qualität für zuhause
DESCRIPTION:Die Qualitätsmarke aus der Schweiz bietet u.a. die hervorragenden Edelstahlpfannen mit 5mm Kupferlegierung für eine optimale Wärmeverteilung\, verpackt in einem 5-Lagen Mehrschichtmaterial. Des Ergebnis kann sich sehen lassen. Am besten einfach vorbei kommen und sich selbst davon überzeugen. Unsere Köchin freut sich auf Sie!
URL:https://ramsperger-freiburg.de/event/spring-die-schweizer-gastronomie-qualitaet-fuer-zuhause/
LOCATION:Ramsperger Messerschmiede\, Rathausgasse 44\, Freiburg\, 79098\, Deutschland
CATEGORIES:Kochen
ATTACH;FMTTYPE=image/jpeg:https://ramsperger-freiburg.de/wp-content/uploads/2019/02/kochen_SPRING.jpg
ORGANIZER;CN="Ramsperger GmbH":MAILTO:seminare@ramsperger-freiburg.de
END:VEVENT
END:VCALENDAR