BEGIN:VCALENDAR
VERSION:2.0
PRODID:-//Ramsperger Messerschmiede - ECPv6.15.20//NONSGML v1.0//EN
CALSCALE:GREGORIAN
METHOD:PUBLISH
X-ORIGINAL-URL:https://ramsperger-freiburg.de
X-WR-CALDESC:Veranstaltungen für Ramsperger Messerschmiede
REFRESH-INTERVAL;VALUE=DURATION:PT1H
X-Robots-Tag:noindex
X-PUBLISHED-TTL:PT1H
BEGIN:VTIMEZONE
TZID:UTC
BEGIN:STANDARD
TZOFFSETFROM:+0000
TZOFFSETTO:+0000
TZNAME:UTC
DTSTART:20180101T000000
END:STANDARD
END:VTIMEZONE
BEGIN:VEVENT
DTSTART;VALUE=DATE:20190601
DTEND;VALUE=DATE:20190627
DTSTAMP:20260423T115907
CREATED:20190426T100007Z
LAST-MODIFIED:20190627T125527Z
UID:1182-1559347200-1561593599@ramsperger-freiburg.de
SUMMARY:Gewürzmühlen testen mit der WürzStation von AdHoc
DESCRIPTION:Testen Sie bei uns die verschiedenen Mahlwerke von AdHoc im direkten Vergleich zu unseren weiteren Marken wie Peugeot und Zassenhaus. \nWelches Mahlwerk eignet sich am besten für Pfeffer? Welches für Salz? Welches für Chili\, Muskat\, Leinsamen\, Kümmel und weiteren Gewürzen? \nIn der WürzStation von AdHoc halten wir für Sie 4 gefüllte Testschneider bereit. Das Ergebnis können Sie hervorragend mit einem Quarkbrot o.ä. vor Ort gleich verkosten.
URL:https://ramsperger-freiburg.de/event/gewuerzmuehlen-testen-mit-der-wuerzstation-von-adhoc/
LOCATION:Ramsperger Messerschmiede\, Rathausgasse 44\, Freiburg\, 79098\, Deutschland
CATEGORIES:Testen
ATTACH;FMTTYPE=image/jpeg:https://ramsperger-freiburg.de/wp-content/uploads/2019/04/gewürze_AdHoc.jpg
ORGANIZER;CN="Ramsperger GmbH":MAILTO:seminare@ramsperger-freiburg.de
END:VEVENT
BEGIN:VEVENT
DTSTART;TZID=UTC:20190625T183000
DTEND;TZID=UTC:20190625T200000
DTSTAMP:20260423T115907
CREATED:20190320T170141Z
LAST-MODIFIED:20190320T170141Z
UID:1137-1561487400-1561492800@ramsperger-freiburg.de
SUMMARY:Schärfseminar
DESCRIPTION:Wir zeigen Ihnen\, wie Sie Ihre eigenen Messer scharf halten und vor allem leicht auch zuhause nachschärfen können. Das Seminar dauert i.d.R. 1\,5 – 2 Stunden. Nach einer 15-20 minütigen Einführung können Sie zusammen mit unseren gelernten Messerschmieden auf Abziehsteinen und Wetzstäben üben. Das Schärf-Equipment wird von uns gestellt. Die Teilnahmegebühr beträgt € 25\,00 und wird von uns in vollem Umfang an den Münsterbauverein gespendet – zum Erhalt des Freiburger Münsters. \nAnmeldung über unser Kontaktformular > Kontakt
URL:https://ramsperger-freiburg.de/event/schaerfseminar-5/
LOCATION:Ramsperger Messerschmiede\, Rathausgasse 44\, Freiburg\, 79098\, Deutschland
CATEGORIES:Schärfseminar
ATTACH;FMTTYPE=image/jpeg:https://ramsperger-freiburg.de/wp-content/uploads/2019/02/schärfseminar.jpg
ORGANIZER;CN="Ramsperger GmbH":MAILTO:seminare@ramsperger-freiburg.de
END:VEVENT
BEGIN:VEVENT
DTSTART;TZID=UTC:20190629T100000
DTEND;TZID=UTC:20190629T180000
DTSTAMP:20260423T115907
CREATED:20190207T162446Z
LAST-MODIFIED:20190218T174903Z
UID:885-1561802400-1561831200@ramsperger-freiburg.de
SUMMARY:Horl-1993 Rollschleifer Vorführung
DESCRIPTION:Er war der Verkaufsschlager 2018 und erobert nun weitere Haushalte nicht nur in Deutschland\, sondern auch mittlerweile weltweit. Wir freuen uns den Freiburger Erfindergeist der Familie Horl heute bei uns zu Gast zu haben. Alles rund um das kleine Schmuckstück erfahren Sie hier und jetzt hautnah.
URL:https://ramsperger-freiburg.de/event/horl-1993-rollschleifer-vorfuehrung/
LOCATION:Ramsperger Messerschmiede\, Rathausgasse 44\, Freiburg\, 79098\, Deutschland
CATEGORIES:Event
ATTACH;FMTTYPE=image/jpeg:https://ramsperger-freiburg.de/wp-content/uploads/2019/02/horl.jpg
ORGANIZER;CN="Ramsperger GmbH":MAILTO:seminare@ramsperger-freiburg.de
END:VEVENT
END:VCALENDAR