BEGIN:VCALENDAR
VERSION:2.0
PRODID:-//Ramsperger Messerschmiede - ECPv6.15.20//NONSGML v1.0//EN
CALSCALE:GREGORIAN
METHOD:PUBLISH
X-ORIGINAL-URL:https://ramsperger-freiburg.de
X-WR-CALDESC:Veranstaltungen für Ramsperger Messerschmiede
REFRESH-INTERVAL;VALUE=DURATION:PT1H
X-Robots-Tag:noindex
X-PUBLISHED-TTL:PT1H
BEGIN:VTIMEZONE
TZID:UTC
BEGIN:STANDARD
TZOFFSETFROM:+0000
TZOFFSETTO:+0000
TZNAME:UTC
DTSTART:20180101T000000
END:STANDARD
END:VTIMEZONE
BEGIN:VEVENT
DTSTART;TZID=UTC:20190705T150000
DTEND;TZID=UTC:20190705T190000
DTSTAMP:20260423T103013
CREATED:20190207T162447Z
LAST-MODIFIED:20190217T164901Z
UID:886-1562338800-1562353200@ramsperger-freiburg.de
SUMMARY:Weinprobe: offener Ausschank | Weingut HEGER
DESCRIPTION:Kommen Sie auf ein Glas Wein vorbei. Das Weingut HEGER bietet Ihnen bei uns eine feine Auswahl bester Weine aus unserer Region zum Ausprobieren. Begleitet wird der Nachmittag mit selbstgemachten Flammkuchen. Hmmm. :)
URL:https://ramsperger-freiburg.de/event/weinprobe-offener-ausschank-2/
LOCATION:Ramsperger Messerschmiede\, Rathausgasse 44\, Freiburg\, 79098\, Deutschland
CATEGORIES:Event,Weinprobe
ATTACH;FMTTYPE=image/jpeg:https://ramsperger-freiburg.de/wp-content/uploads/2019/02/weinprobe_HEGER-2.jpg
ORGANIZER;CN="Ramsperger GmbH":MAILTO:seminare@ramsperger-freiburg.de
END:VEVENT
BEGIN:VEVENT
DTSTART;TZID=UTC:20190713T103000
DTEND;TZID=UTC:20190713T173000
DTSTAMP:20260423T103013
CREATED:20190211T113941Z
LAST-MODIFIED:20190218T163720Z
UID:934-1563013800-1563039000@ramsperger-freiburg.de
SUMMARY:Sushi vom Sushimeister | Zubereitung und kostenlose Verkostung
DESCRIPTION:Sushi ist nicht nur eine wunderbare leichte Speise im Sommer\, sondern auch unglaublich faszinierend in der Zubereitung. Heute zu Gast\, ist nicht nur irgendein Sushikoch\, sondern Sushimeister Hayamizu. Wer bereits zu unserem 95-jährigen Jubiläum bei uns war\, wird ihn kennen und weiß\, wie gut sein Sushi schmeckt und wie spielend er mit den extrem scharfen Kochmesser von KAI umgehen kann. Wir waren damals schon begeistert und freuen uns deshalb umso mehr\, ihn wieder bei uns begrüßen zu dürfen. Sie haben Lust auf Sushi? Und wollen Herrn Hayamizu in der Zubereitung über die Schultern schauen? Dann kommen Sie vorbei\, bringen Ihre Liebste oder Ihren Liebsten mit und verkosten das exzellente Sushi. Wir freuen uns auf Ihren Besuch.
URL:https://ramsperger-freiburg.de/event/sushi-vom-sushimeister/
LOCATION:Ramsperger Messerschmiede\, Rathausgasse 44\, Freiburg\, 79098\, Deutschland
CATEGORIES:Event,Kochen
ATTACH;FMTTYPE=image/jpeg:https://ramsperger-freiburg.de/wp-content/uploads/2019/02/kochen_KAI.jpg
ORGANIZER;CN="Ramsperger GmbH":MAILTO:seminare@ramsperger-freiburg.de
END:VEVENT
END:VCALENDAR